BEGIN:VCALENDAR
VERSION:2.0
PRODID:-//Nure Net - The Network For Terenure - ECPv4.6.2//NONSGML v1.0//EN
CALSCALE:GREGORIAN
METHOD:PUBLISH
X-WR-CALNAME:Nure Net - The Network For Terenure
X-ORIGINAL-URL:http://nurenet.ie
X-WR-CALDESC:Events for Nure Net - The Network For Terenure
BEGIN:VEVENT
DTSTART;TZID=UTC+0:20170309T073000
DTEND;TZID=UTC+0:20170309T083000
DTSTAMP:20171031T072149
CREATED:20151030T173106Z
LAST-MODIFIED:20170215T191128Z
UID:1077-1489044600-1489048200@nurenet.ie
SUMMARY:Nure Net Business Breakfast Club 09-03-2017
DESCRIPTION:This is a business networking forum for businesses based in the Terenure area.  We meet every fortnight and it allows our members to: \n\nShowcase their business\nIncrease their B2B opportunities\nIncrease their profile within the Terenure area\nAnd ultimately ….. grow their business\n\nIf you would like to join us just contact us and  we will see you there! \n
URL:http://nurenet.ie/event/nure-net-business-breakfast-club-09-03-2017/
LOCATION:Greenlea Grove\, Dublin\, 6w\, Ireland
CATEGORIES:Business Club
ATTACH;FMTTYPE=image/jpeg:http://nurenet.ie/wp-content/uploads/2015/10/nure-net-networking-events-dublin-Chapter-One.jpg
END:VEVENT
END:VCALENDAR