BEGIN:VCALENDAR
VERSION:2.0
PRODID:-//Nure Net - The Network For Terenure - ECPv4.6.2//NONSGML v1.0//EN
CALSCALE:GREGORIAN
METHOD:PUBLISH
X-WR-CALNAME:Nure Net - The Network For Terenure
X-ORIGINAL-URL:http://nurenet.ie
X-WR-CALDESC:Events for Nure Net - The Network For Terenure
BEGIN:VEVENT
DTSTART;TZID=UTC+0:20170601T073000
DTEND;TZID=UTC+0:20170601T083000
DTSTAMP:20171030T175940
CREATED:20151014T172544Z
LAST-MODIFIED:20170215T192042Z
UID:1048-1496302200-1496305800@nurenet.ie
SUMMARY:Nure Net Business Breakfast Club 01-06-17
DESCRIPTION:This is a business networking forum for businesses based in the Terenure area.  We meet every fortnight and it allows our members to: \n\nShowcase their business\nIncrease their B2B opportunities\nIncrease their profile within the Terenure area\nAnd ultimately ….. grow their business\n\nIf you would like to join us just contact us and  we will see you there! \n
URL:http://nurenet.ie/event/nure-net-business-breakfast-club-01-06-17/
LOCATION:Greenlea Grove\, Dublin\, 6w\, Ireland
CATEGORIES:Business Club
ATTACH;FMTTYPE=image/jpeg:http://nurenet.ie/wp-content/uploads/2015/08/nure-net-networking-events-dublin-.jpg
END:VEVENT
END:VCALENDAR