BEGIN:VCALENDAR
VERSION:2.0
PRODID:-//Nure Net - The Network For Terenure - ECPv4.6.2//NONSGML v1.0//EN
CALSCALE:GREGORIAN
METHOD:PUBLISH
X-WR-CALNAME:Nure Net - The Network For Terenure
X-ORIGINAL-URL:http://nurenet.ie
X-WR-CALDESC:Events for Nure Net - The Network For Terenure
BEGIN:VEVENT
DTSTART;TZID=UTC+0:20160629T193000
DTEND;TZID=UTC+0:20160629T230000
DTSTAMP:20171031T164028
CREATED:20160620T154035Z
LAST-MODIFIED:20160620T154035Z
UID:1203-1467228600-1467241200@nurenet.ie
SUMMARY:NureNet Business Network Summer BBQ
DESCRIPTION:To celebrate a successful business networking year so far\, schools finishing and of course exams finishing we are hosting a summer BBQ!\nNure Net in conjunction with I Love Terenure are inviting all the businesses and business networks in the area to a BBQ in Terenure College Rugby Club. \nEvent will take place on Wednesday 29th June @ 7:30pm \nIn order to facilitate the catering\, please remember to book & pay in advance – thanks! \nPlease click on following link to reserve your place http://tiny.cc/hzjdcy \nLook forward to seeing you there \n
URL:http://nurenet.ie/event/nurenet-business-network-summer-bbq/
LOCATION:Greenlea Grove\, Dublin\, Dublin\, Ireland
END:VEVENT
END:VCALENDAR